View In:
ArcGIS JavaScript
ArcGIS Online Map Viewer
ArcGIS Earth
ArcGIS Pro
Service Description:
Map Name: Raster2023
Legend
All Layers and Tables
Dynamic Legend
Dynamic All Layers
Layers:
Description:
Service Item Id: 0be46d4105674b4dbbaca187145e40dd
Copyright Text:
Spatial Reference:
102749
(2286)
LatestVCSWkid(0)
Single Fused Map Cache: true
Tile Info:
- Height: 256.0
- Width: 256.0
- DPI: 96.0
-
Levels of Detail: 19
-
Level ID: 0
[ Start Tile, End Tile ]
- Resolution: 930768.002177061
- Scale: 1.0722468830017405E9
-
Level ID: 1
[ Start Tile, End Tile ]
- Resolution: 465384.0010885305
- Scale: 5.361234415008702E8
-
Level ID: 2
[ Start Tile, End Tile ]
- Resolution: 232692.00054426526
- Scale: 2.680617207504351E8
-
Level ID: 3
[ Start Tile, End Tile ]
- Resolution: 116346.00027213263
- Scale: 1.3403086037521756E8
-
Level ID: 4
[ Start Tile, End Tile ]
- Resolution: 58173.000136066315
- Scale: 6.701543018760878E7
-
Level ID: 5
[ Start Tile, End Tile ]
- Resolution: 29086.500068033158
- Scale: 3.350771509380439E7
-
Level ID: 6
[ Start Tile, End Tile ]
- Resolution: 14543.250034016579
- Scale: 1.6753857546902195E7
-
Level ID: 7
[ Start Tile, End Tile ]
- Resolution: 7271.625017008289
- Scale: 8376928.773451097
-
Level ID: 8
[ Start Tile, End Tile ]
- Resolution: 3635.8125085041447
- Scale: 4188464.3867255487
-
Level ID: 9
[ Start Tile, End Tile ]
- Resolution: 1817.9062542520724
- Scale: 2094232.1933627743
-
Level ID: 10
[ Start Tile, End Tile ]
- Resolution: 908.9531271260362
- Scale: 1047116.0966813872
-
Level ID: 11
[ Start Tile, End Tile ]
- Resolution: 454.4765635630181
- Scale: 523558.0483406936
-
Level ID: 12
[ Start Tile, End Tile ]
- Resolution: 227.23828178150904
- Scale: 261779.0241703468
-
Level ID: 13
[ Start Tile, End Tile ]
- Resolution: 113.61914089075452
- Scale: 130889.5120851734
-
Level ID: 14
[ Start Tile, End Tile ]
- Resolution: 56.80957044537726
- Scale: 65444.7560425867
-
Level ID: 15
[ Start Tile, End Tile ]
- Resolution: 28.40478522268863
- Scale: 32722.37802129335
-
Level ID: 16
[ Start Tile, End Tile ]
- Resolution: 14.202392611344315
- Scale: 16361.189010646674
-
Level ID: 17
[ Start Tile, End Tile ]
- Resolution: 7.101196305672158
- Scale: 8180.594505323337
-
Level ID: 18
[ Start Tile, End Tile ]
- Resolution: 3.550598152836079
- Scale: 4090.2972526616686
- Format: Mixed
- Compression Quality: 75.0
- Origin: X: -1.1749788761199716E8
Y: 1.1874297398445877E8
- Spatial Reference: 102749
(2286)
LatestVCSWkid(0)
Storage Info:
- Storage Format: esriMapCacheStorageModeCompactV2
- Packet Size: 128
Initial Extent:
XMin: 1625558.7920714456
YMin: 424746.9361126955
XMax: 1679947.0078339444
YMax: 483642.04054090707
Spatial Reference: 102749
(2286)
LatestVCSWkid(0)
Full Extent:
XMin: 1496352.0
YMin: 302544.0
XMax: 1802592.0
YMax: 592944.0
Spatial Reference: 102749
(2286)
LatestVCSWkid(0)
Units: esriFeet
Supported Image Format Types: PNG32,PNG24,PNG,JPG,DIB,TIFF,EMF,PS,PDF,GIF,SVG,SVGZ,BMP
Document Info:
Title: 1998
Author:
Comments:
Subject:
Category:
Keywords: Imagery
AntialiasingMode: Fast
TextAntialiasingMode: Force
Supports Dynamic Layers: true
MaxRecordCount: 2000
MaxSelectionCount: 2000
MaxImageHeight: 4096
MaxImageWidth: 4096
Supported Query Formats: JSON, geoJSON, PBF
Supports Query Data Elements: true
Min Scale: 1047116.0966813872
Max Scale: 16361.189010646674
Min LOD: 0
Max LOD: 18
Supports Datum Transformation: true
Child Resources:
Info
Dynamic Layer
Supported Operations:
Export Map
QueryLegends
Return Updates